BEGIN:VCALENDAR
VERSION:2.0
PRODID:-//ddaysoftware.com//NONSGML DDay.iCal 1.0//EN
BEGIN:VTIMEZONE
TZID:W. Europe Standard Time
BEGIN:STANDARD
DTSTART:20251002T030000
RRULE:FREQ=YEARLY;BYDAY=-1SU;BYHOUR=3;BYMINUTE=0;BYMONTH=10
TZNAME:Mitteleuropäische Zeit
TZOFFSETFROM:+0200
TZOFFSETTO:+0100
END:STANDARD
BEGIN:DAYLIGHT
DTSTART:20250301T020000
RRULE:FREQ=YEARLY;BYDAY=-1SU;BYHOUR=2;BYMINUTE=0;BYMONTH=3
TZNAME:Mitteleuropäische Sommerzeit
TZOFFSETFROM:+0100
TZOFFSETTO:+0200
END:DAYLIGHT
END:VTIMEZONE
BEGIN:VEVENT
CATEGORIES:Faschingsveranstaltung
DESCRIPTION:\n\nVeranstalter: NCV Niedernberg e.V.\n\nhttps://www.niedernbe
 rg.de/freizeit-tourismus/veranstaltungen/kartenvorverkauf-ncv-sitzungen/
DTEND:20261227T130000
DTSTAMP:20260420T135014Z
DTSTART:20261227T120000
LOCATION:Narrhalla: Bettlerweg\, 63843 Niedernberg
SEQUENCE:0
SUMMARY:Kartenvorverkauf NCV-Sitzungen
UID:195297
URL:https://www.niedernberg.de/freizeit-tourismus/veranstaltungen/kartenvor
 verkauf-ncv-sitzungen/
END:VEVENT
END:VCALENDAR
