BEGIN:VCALENDAR
VERSION:2.0
PRODID:-//ddaysoftware.com//NONSGML DDay.iCal 1.0//EN
BEGIN:VTIMEZONE
TZID:W. Europe Standard Time
BEGIN:STANDARD
DTSTART:20251002T030000
RRULE:FREQ=YEARLY;BYDAY=-1SU;BYHOUR=3;BYMINUTE=0;BYMONTH=10
TZNAME:Mitteleuropäische Zeit
TZOFFSETFROM:+0200
TZOFFSETTO:+0100
END:STANDARD
BEGIN:DAYLIGHT
DTSTART:20250301T020000
RRULE:FREQ=YEARLY;BYDAY=-1SU;BYHOUR=2;BYMINUTE=0;BYMONTH=3
TZNAME:Mitteleuropäische Sommerzeit
TZOFFSETFROM:+0100
TZOFFSETTO:+0200
END:DAYLIGHT
END:VTIMEZONE
BEGIN:VEVENT
CATEGORIES:Kirchliche Veranstaltung
DESCRIPTION:Herzliche Einladung zum Familiengottesdienst der Pfadfinder für
  Groß und Klein in Niedernberg! Gemeinsam wollen wir singen\, beten und ei
 ne spannende Geschichte erleben. Kommt vorbei und feiert mit uns einen frö
 hlichen Gottesdienst voller Gemeinschaft und Abenteuer!\n\nVeranstalter: P
 fadfinder Niedernberg\n\nhttps://www.niedernberg.de/freizeit-tourismus/ver
 anstaltungen/familiengottesdienst-der-pfadfinderinnen-und-pfadfinder/
DTEND:20261025T113000
DTSTAMP:20260420T034356Z
DTSTART:20261025T103000
SEQUENCE:0
SUMMARY:Familiengottesdienst der Pfadfinderinnen und Pfadfinder
UID:197573
URL:https://www.niedernberg.de/freizeit-tourismus/veranstaltungen/familieng
 ottesdienst-der-pfadfinderinnen-und-pfadfinder/
END:VEVENT
END:VCALENDAR
